BEGIN:VCALENDAR
VERSION:2.0
PRODID:-//DIGITAL FACTORY//EVENTS MAKER V1.6.14//EN
CALSCALE:GREGORIAN
BEGIN:VEVENT
DTEND:20170207
UID:69ecef0aea293
DTSTAMP:20260425T164250Z
DESCRIPTION:SAMO ZA ODABRANE UKUSE  Dođite da zajedno uživamo u promociji i degustaciji "3Bir" piva.  U utorak\, 7. februar\,    – Ulica Svetozara Miletića 17\, Novi Sad\, Serbia – MAPA  – Facebook: @LagerAndWine  – Telefon: 021 6623000    Mesto na kome se cene i prepoznaju pravi ukusi
URL;VALUE=URI:https://3bir.rs/events/event/promocija-3bir-piva-u-lager-vine
SUMMARY:PROMOCIJA 3BIR PIVA U LAGER &amp\; WINE
DTSTART:20170207
END:VEVENT
END:VCALENDAR
